BEGIN:VCALENDAR
VERSION:2.0
PRODID:-//NAAAP DC - ECPv5.3.2.1//NONSGML v1.0//EN
CALSCALE:GREGORIAN
METHOD:PUBLISH
X-WR-CALNAME:NAAAP DC
X-ORIGINAL-URL:https://dc.naaap.org
X-WR-CALDESC:Events for NAAAP DC
BEGIN:VTIMEZONE
TZID:UTC
BEGIN:STANDARD
TZOFFSETFROM:+0000
TZOFFSETTO:+0000
TZNAME:UTC
DTSTART:20210101T000000
END:STANDARD
END:VTIMEZONE
BEGIN:VEVENT
DTSTART;TZID=UTC:20210202T180000
DTEND;TZID=UTC:20210202T190000
DTSTAMP:20260425T165725
CREATED:20210113T204313Z
LAST-MODIFIED:20210131T193706Z
UID:23439-1612288800-1612292400@dc.naaap.org
SUMMARY:2021 Kick Off
DESCRIPTION:Neither the horoscopes or economists could predict what we dealt with in the year 2020. But that doesn’t mean we can’t take a guess at what 2021 has to offer us! \nJoin Erik Bruner-Yang\, local restaurants Maketto & ABC Pony’s Chef\, and other members on a social (zoom) event to laugh\, cry\, & cheer on/with others who need a little positivity to get through another year of “unprecedented” events. \nAlso\, hear from our Chapter President and Board Chair about the exciting programs planned for this year! Meet the new Executive Team and other fellow members to sustain or build your network\, remotely! \nRSVP and attend the event in full duration to enter a drawing for a complimentary one year membership with the NAAAP DC Chapters.
URL:https://dc.naaap.org/event/hello-2021/
LOCATION:Zoom
CATEGORIES:Inspire,Social
ATTACH;FMTTYPE=image/png:https://naaapchapters.wpengine.com/dc/wp-content/uploads/sites/3/2021/01/Feb2Event.png
END:VEVENT
END:VCALENDAR