BEGIN:VCALENDAR
VERSION:2.0
PRODID:-//NAAAP DC - ECPv5.3.2.1//NONSGML v1.0//EN
CALSCALE:GREGORIAN
METHOD:PUBLISH
X-WR-CALNAME:NAAAP DC
X-ORIGINAL-URL:https://dc.naaap.org
X-WR-CALDESC:Events for NAAAP DC
BEGIN:VTIMEZONE
TZID:UTC
BEGIN:STANDARD
TZOFFSETFROM:+0000
TZOFFSETTO:+0000
TZNAME:UTC
DTSTART:20210101T000000
END:STANDARD
END:VTIMEZONE
BEGIN:VEVENT
DTSTART;TZID=UTC:20211104T190000
DTEND;TZID=UTC:20211104T200000
DTSTAMP:20260420T125627
CREATED:20211012T235831Z
LAST-MODIFIED:20211104T135232Z
UID:24032-1636052400-1636056000@dc.naaap.org
SUMMARY:Intuitive Eating in Asian Communities
DESCRIPTION:In this event\, attendees will learn the principles of intuitive eating and its important role in our health. Attendees will also take a closer look at the Asian American community’s own unique obstacles with diet culture\, body image issues\, and disordered eating. This event will allow attendees to take a deeper dive into intuitive eating and be able to apply its principles with their own unique health needs and lifestyle within Asian culture. \nNicole is a registered dietitian from the D.C. Metro Area and is owner of Your Gut Feeling\, a nutrition business providing 1:1 coaching and online group programs focused on enhancing mental health through nutrition and mindful practices. Nicole’s work is largely based on intuitive eating with cultural integration\, which allows clients to focus on their relationship with food\, themselves\, and incorporating various parts of their culture and heritage as part of their wellness routine. \nJoin us at 7 PM on Thursday\, November 4th for this educational and interactive event! \n 
URL:https://dc.naaap.org/event/intuitive-eating-in-asian-communities/
LOCATION:Zoom
END:VEVENT
END:VCALENDAR